BEGIN:VCALENDAR
VERSION:2.0
PRODID:-//Pine Lake Fellowship Camp - ECPv6.15.20//NONSGML v1.0//EN
CALSCALE:GREGORIAN
METHOD:PUBLISH
X-WR-CALNAME:Pine Lake Fellowship Camp
X-ORIGINAL-URL:https://www.pinelakecamp.com
X-WR-CALDESC:Events for Pine Lake Fellowship Camp
REFRESH-INTERVAL;VALUE=DURATION:PT1H
X-Robots-Tag:noindex
X-PUBLISHED-TTL:PT1H
BEGIN:VTIMEZONE
TZID:America/Chicago
BEGIN:DAYLIGHT
TZOFFSETFROM:-0600
TZOFFSETTO:-0500
TZNAME:CDT
DTSTART:20250309T080000
END:DAYLIGHT
BEGIN:STANDARD
TZOFFSETFROM:-0500
TZOFFSETTO:-0600
TZNAME:CST
DTSTART:20251102T070000
END:STANDARD
BEGIN:DAYLIGHT
TZOFFSETFROM:-0600
TZOFFSETTO:-0500
TZNAME:CDT
DTSTART:20260308T080000
END:DAYLIGHT
BEGIN:STANDARD
TZOFFSETFROM:-0500
TZOFFSETTO:-0600
TZNAME:CST
DTSTART:20261101T070000
END:STANDARD
BEGIN:DAYLIGHT
TZOFFSETFROM:-0600
TZOFFSETTO:-0500
TZNAME:CDT
DTSTART:20270314T080000
END:DAYLIGHT
BEGIN:STANDARD
TZOFFSETFROM:-0500
TZOFFSETTO:-0600
TZNAME:CST
DTSTART:20271107T070000
END:STANDARD
END:VTIMEZONE
BEGIN:VEVENT
DTSTART;TZID=America/Chicago:20260425T110000
DTEND;TZID=America/Chicago:20260425T140000
DTSTAMP:20260419T081422
CREATED:20200527T141652Z
LAST-MODIFIED:20260121T192210Z
UID:8649-1777114800-1777125600@www.pinelakecamp.com
SUMMARY:SUMMER CAMP OPEN HOUSE
DESCRIPTION:NEW TO PINE LAKE?  OPEN HOUSE IS FOR YOU!\nGet a taste of why campers and parents love Pine Lake. At Open House\, families explore camp\, meet the staff\, and enjoy classic camp fun!  This is a great way to preview the culture of Pine Lake and learn more about what makes camp the best week of the summer.  The Pine Lake community is always growing; we can’t wait to meet you! \n  \n\n\n\n\nExplore!\n\n\nMeet the Staff!\n\n\nHave Fun!\n\n\n\nSee the summer camp cabins.\nGet to know summer counselors.\nBoat with a friend\, a staff\, or on your own.\n\n\nPeek in the Pavilion\, the cafeteria.\nTalk one-on-one with the directors.\nPlay field games led by staff.\n\n\nScope out the Shelter\, or chapel.\nVisit with veteran volunteers.\nRoast a hotdog over the campfire.\n\n\nWalk the trails.\nHear firsthand stories from former campers.\nLearn to play gaga ball.\n\n\nEnjoy the beautiful lakefront.\nConnect with camper parents.\nHangout at the playground.\n\n\n\nALREADY PART OF THE PINE LAKE COMMUNITY?\nJoin in the fun!  Community is what makes camp so special\, and we are glad you are part of our family. Truly\, we love when campers say\, “We couldn’t wait til the summer! We had to come to Open House!” Open House is meant to be a fun\, free day for everyone\, including new families\, old friends\, volunteers\, and staff!  Also\, every camper registered at Open House receives a free t-shirt! Don’t miss out on this! \n  \nREGISTER AT OPEN HOUSE FOR A FREE T-SHIRT\nThat’s right\, every camper registered at Open House can choose a t-shirt from our current stock OR get the 2021 t-shirt at their week of camp! **Deposit and completed registration form are required to qualify. \n  \nOPEN HOUSE FAQ’s\nCost?\nFREE! \nWhere do I RSVP for Open House?\nThis event is spacious and well-staffed\, so no need to RSVP! Just come! (If you want though\, you can RSVP\, and share the event on Facebook!) \nHow much time will this take?\nAs little as 15 minutes to as long as 3 hours\, depending on what you want to do! A full tour is about 30 minutes\, not including boating or roasting a snack over the fire. \nDirections?\nUse the address below\, and once you hit Pine Lake Road\, follow the signs! \nCan I register for summer camp while I’m there?\nYes\, but only if you want a free t-shirt! \nI’m booked this Saturday.  Can I tour another time?\nDefinitely! Call or email the office to schedule a tour with us! Our staff are knowledgeable about what to expect this summer\, and we love sharing camp with others! (It’s why we work here.) \n  \n  \nSummer Camp Page \n  \nQuestions? Call the Camp Office: (601) 483-2267 or email us at info@pinelakecamp.com \n\n			\n				\n			\n				\n				Campers paddleboating at Summer Camp\n				\n			\n				\n			\n				\n				Recreation\n				\n			\n				\n			\n				\n				Campers love the Rope Swing.\n				\n			\n				\n			\n				\n				The playground is a popular place for campers to hangout and have fun!\n				\n			\n				\n			\n				\n				There’s nothing like spending the morning with friends by the lake!\n				\n			\n				\n			\n				\n				Every day of camp ends with a campfire. \n				\n			\n				\n			\n			\n				\n			\n		\n\n 
URL:https://www.pinelakecamp.com/event/open-house/
LOCATION:Pine Lake Fellowship Camp\, 10371 Pine Lake Road\, Meridian\, MS\, 39307\, United States
CATEGORIES:Event,Retreat
ATTACH;FMTTYPE=image/png:https://www.pinelakecamp.com/wp-content/uploads/2020/05/Open-House-6.png
ORGANIZER;CN="Suzanne Opel":MAILTO:suzanne@pinelakecamp.com
END:VEVENT
BEGIN:VEVENT
DTSTART;TZID=America/Chicago:20260430T150000
DTEND;TZID=America/Chicago:20260502T170000
DTSTAMP:20260419T081422
CREATED:20171124T194412Z
LAST-MODIFIED:20250806T195510Z
UID:5616-1777561200-1777741200@www.pinelakecamp.com
SUMMARY:CAMP QUILT RETREAT & WORKSHOP
DESCRIPTION:UNPLUG | REST | CONNECT | QUILT\n – For these 2 days\, quilters of ALL experience levels\, (from willing-to-learn quilters to black belt quilters) are invited to fellowship\, have fun\, eat good food\, and do lots of quilting (and other fabric/yarn projects)! All while enjoying beautiful Pine Lake.\n – FOOD\, LODGING\, AND CHILDREN’S ACTIVITIES are provided free. Just RSVP!\n– The Camp Quilt\, a Pine Lake tradition\, uses the work of many hands to support camp’s ministry. This event is to hand-stitch the quilt which will be sold at Camp Sale in October. It’s always the showstopper of the auction and typically raises over $1\,000!\n – Quilting begins Thursday afternoon and will continue until Saturday after lunch. Quilters are welcome to stay until Sunday\, as a day of rest.\n – Come for the day or the whole weekend!\n– Cost: Free \nThe 2026 “Camp Quilt” will be auctioned at Camp Sale on October 3\, 2026\nCamp Sale \n \nTentative  Schedule\nThursday \n3:00 pm – Arrive\, Settle In\, Quilt!\n5:30 pm – Supper\n6:30 pm – Quilt/Prayer Time! \nFriday \n8:00 am – Breakfast/Devotional\n9:00 am – Quilt!\n12:00 pm – Lunch\n1:00 pm – Quilt/Rest\n5:30 pm – Supper\n6:30 pm – Quilt!\n6:30 pm – Children’s Activities \nSaturday \n8:00 am – Breakfast/Devotional\n9:00 am – Quilt!\n12:00 pm – Lunch\n1:00 pm – Quilt til the quilt is done or gone \nSupper on your own \nSunday \nBreakfast on your own \n\nLODGING:\n\nOvernight lodging available Thursday – Saturday nights  \nRSVP to at info@pinelakecamp.com or 601-483-2267\n\nCOST:\n\nFREE (donations accepted towards lodging ($65/room/night)\, day fees ($5/person/day)\, and food ($5/person/meal)\n\n\n			\n				\n			\n				\n				Ladies quilting on the 2020 Camp Quilt
URL:https://www.pinelakecamp.com/event/quilting-retreat/
LOCATION:Pine Lake Fellowship Camp\, 10371 Pine Lake Road\, Meridian\, MS\, 39307\, United States
CATEGORIES:Fundraiser,Retreat
ATTACH;FMTTYPE=image/png:https://www.pinelakecamp.com/wp-content/uploads/2017/11/Camp-Quilt-Retreat-Workshop-3.png
ORGANIZER;CN="Matt Graybill":MAILTO:matt@Pinelakecamp.com
END:VEVENT
BEGIN:VEVENT
DTSTART;VALUE=DATE:20260604
DTEND;VALUE=DATE:20260705
DTSTAMP:20260419T081422
CREATED:20200527T141652Z
LAST-MODIFIED:20260112T171139Z
UID:8094-1780531200-1783209599@www.pinelakecamp.com
SUMMARY:SUMMER CAMP
DESCRIPTION:  \nREGISTER FOR SUMMER CAMP! \n  \n \n  \nKids and youth enjoy adventure\, independence\, strong mentors\, a Christ-centered community\, and all the fun you can pack into a week. This summer will be no different! Kids need the freedom of camp more than ever. From the moment they wake up (just 2 feet away from the great outdoors) to the evening campfire\, every day is tailored to what kids need\, how they learn\, and how they have fun! Vetted\, trained staff shepherd campers through myriad activities that engage\, nurture\, and grow campers\, whether they realize it or not! \nLEARN MORE! >> Summer Camp Page \n\n\n\n  \n  \nSummer Camp at Pine Lake Fellowship Camp!\n\n			\n				\n			\n				\n				Recreation\n				\n			\n				\n			\n			\n				\n			\n				\n				Worship at Day Camp\n				\n			\n				\n			\n			\n				\n			\n				\n				Hot Dog Cookout\n				\n			\n				\n			\n			\n				\n			\n				\n				CjQKMFNuYXBjaGF0LzEzLjM5LjAuNDQgKGlQaG9uZTE0LDU7IGlPUyAxOC41OyBnemlwKSAB
URL:https://www.pinelakecamp.com/event/summer-camp/
LOCATION:Pine Lake Fellowship Camp\, 10371 Pine Lake Road\, Meridian\, MS\, 39307\, United States
CATEGORIES:Event,Retreat
ATTACH;FMTTYPE=image/png:https://www.pinelakecamp.com/wp-content/uploads/2017/11/Summer-Camp-1.png
ORGANIZER;CN="Suzanne Opel":MAILTO:suzanne@pinelakecamp.com
END:VEVENT
BEGIN:VEVENT
DTSTART;VALUE=DATE:20260904
DTEND;VALUE=DATE:20260908
DTSTAMP:20260419T081422
CREATED:20171124T205905Z
LAST-MODIFIED:20250908T210036Z
UID:7129-1788480000-1788825599@www.pinelakecamp.com
SUMMARY:FAMILY CAMP (Homecoming)
DESCRIPTION:Family Camp Weekend is Pine Lake’s annual homecoming event—a time to reconnect\, recharge\, and rejoice! \nSome attendees come to spend quality time with their nuclear family\, others to connect with God’s family! Either way\, this weekend is all about relationships. \nWhether it’s your first visit or your 50th\, Family Camp is the perfect opportunity to rest in God’s creation\, be nourished in your faith\, and have fun with others. Adventurers will find plenty of exciting activities\, while those who prefer a slower pace can enjoy the peace of scenic spots perfect for conversation or quiet reflection. \nGet ready for a refreshing weekend as we draw closer to God\, nature\, and one another. \n\n \n  \nLODGING & MEALS\n -Please contact info@pinelakecamp.com or 601-483-2267 to reserve lodging. \nLODGING\n – Lake View Lodge Room: $70.00/night (linens included)\n – Tall Pines Room: $70.00/night (linens not included)\n – Tall Pines Apartment: $105.00/night\n – Rustic Cabin: $12.00/person/night ($45.00 max/family/night)\nDAY ONLY \n(Suggested Donation)\n– (Ages 11+):   $8.00/person/day \n– (Ages 5-10):   $5.00/person/day\n– (Ages 0-4):   FREE\nMEALS\n – Cost: **Donations collected at registration tent \n – Lunch & Supper Meals are provided by volunteers from PLFC & Charter Churches\n – If you’re interested in helping provide or serve food\, contact info@pinelakecamp.com\n  \n\n			\n				\n			\n			\n				\n			\n			\n				\n			\n			\n				\n			\n			\n				\n			\n			\n				\n			\n			\n				\n			\n			\n				\n			\n			\n				\n			\n			\n				\n			\n			\n				\n			\n			\n				\n			\n		\n\n Want to help someone in need attend a PLFC Retreat? \nDonate to Retreat Scholarships \n 
URL:https://www.pinelakecamp.com/event/family-camp/
LOCATION:Pine Lake Fellowship Camp\, 10371 Pine Lake Road\, Meridian\, MS\, 39307\, United States
CATEGORIES:Event,Retreat
ATTACH;FMTTYPE=image/png:https://www.pinelakecamp.com/wp-content/uploads/2017/11/Family-Camp-2-1.png
ORGANIZER;CN="Matt Graybill":MAILTO:matt@Pinelakecamp.com
END:VEVENT
BEGIN:VEVENT
DTSTART;TZID=America/Chicago:20261003T080000
DTEND;TZID=America/Chicago:20261003T150000
DTSTAMP:20260419T081422
CREATED:20171124T212601Z
LAST-MODIFIED:20251008T152218Z
UID:8929-1791014400-1791039600@www.pinelakecamp.com
SUMMARY:CAMP SALE
DESCRIPTION:PURPOSE:\nThe 43nd annual sale and benefit auction supports Pine Lake Fellowship Camp’s mission by raising funds for the summer camp program for youth and children!  \nVolunteer   Donate   \nCAMP SALE \n\nFOOD:\n– Pancake breakfast served hot from 8:00-9:30 | $5.00 (3 pancakes\, 2 sausages\, juice or coffee)\n– Fresh donuts are made on-site\n– Fresh baked goods (cookies\, pies\, breads\, whoopie pies\, jellies\, jams\, etc.)\n– Lunch – Seafood Gumbo or Jambalaya tickets available for dine-in or take-out. ($12.00 Adult serving | $8.00 Half serving) Purchase your lunch ticket at the Auction Registration Table at the tent entrance.\n– Hot dogs\, drinks\, and snacks are available \nKIDS ACTIVITIES:\n– Purchase activity tickets for multiple carnival-style games\, a jump house\, and plenty of prizes \nCRAFTS:\n– Shop from a variety of handmade goods. arts\, crafts\, fine woodworking\, crochet\, and more \nQUILTS:\n– Dozens of quilts are available for sale or only in the auction\, including the 2025 “Camp Quilt.” \n– Items marked with a price may be purchased at any time \nLIVE AUCTION:\n– Going once\, Going Twice\, SOLD! Register to place a bid during the live\, in-person auction. The Auction will live-stream on YouTube\n– All sales are final\, and the balance is due upon the end of the auction.\n– Acceptable auction purchase payment methods: Cash\, Check\, Credit Card (may incur a 3% fee). \nHOW DO I PAY FOR ITEMS:\n– Each food area\, arts\, & crafts has a check-out point/cashier. Payment should be made at the point of purchase. \n– Acceptable payment methods: Cash or Check.  Not all payment points are equipped to receive credit card transactions (may incur a 3% fee).\n \nVOLUNTEER:\n– This event is only possible with volunteers!\n– Sign up to fill an essential role at Camp Sale\nVolunteer \n\nONLINE AUCTION: \n– Join in the fun of Camp Sale from anywhere in the world!\n– Bid on specific items available only in the online auction.  \nStart: October 1 | 12:00pm CST\nEnd: October 8 | 9:00pm CST \nBID NOW! \n\n  \n\n			\n				\n			\n			\n				\n			\n			\n				\n			\n			\n				\n			\n			\n				\n			\n			\n				\n			\n			\n				\n			\n			\n				\n			\n		\n\n \n 
URL:https://www.pinelakecamp.com/event/camp-sale-2/
LOCATION:Pine Lake Fellowship Camp\, 10371 Pine Lake Road\, Meridian\, MS\, 39307\, United States
CATEGORIES:Event,Fundraiser
ATTACH;FMTTYPE=image/png:https://www.pinelakecamp.com/wp-content/uploads/2017/11/Camp-Sale-4.png
ORGANIZER;CN="Matt Graybill":MAILTO:matt@Pinelakecamp.com
END:VEVENT
BEGIN:VEVENT
DTSTART;VALUE=DATE:20261023
DTEND;VALUE=DATE:20261026
DTSTAMP:20260419T081422
CREATED:20171124T202814Z
LAST-MODIFIED:20260113T142841Z
UID:8443-1792713600-1792972799@www.pinelakecamp.com
SUMMARY:DADS & KIDS WEEKEND
DESCRIPTION: SKIP YOUR WEEKEND TO-DO LIST!\nLoaded with fun activities and located in the beauty of God’s wilderness\, dads and their kids experience a relaxed retreat that includes quality time for memory-making and faith-building for dads (or grandpas) and their kids. \nREGISTER TODAY FOR DADS & KIDS WEEKEND\nDads & Kids Weekend Pricing:\n – $40.00 per person + your choice of Lodging option below: \nDEPOSIT – $25.00 per family due at registration.  Balance due at event start \nLodging Options:\n\n\n\nCommute from home\nStay in the comfort of your own home and commute for the retreat program! (Fee covers day usage costs.)\n+ $30\n \n\n\nMain Camp Cabin\nOur rustic cabins are screened in\, have electricity\, and are located near a bathhouse.\n+ $50\n \n\n\nTall Pines Fellowship Center\nEach room has sleeping space for up to 6 people\, a private bathroom\, and climate control. (Includes towels and bed linens.)\n+ $135\n \n\n\nRV Site\nRV sites have water\, sewer\, and 50 amp electrical hook-ups.\n+ $60\n\n\n\n\nWhat’s Included?\n\nAll Meals\n2 nights lodging in your choice of cabins\, tents\, or Tall Pines Fellowship Center\nWeekend Programming\nTime for you and your kid(s) to do things you enjoy!\n\nDads & Kids Weekend Schedule:\nFriday\n7:30 – Registration\n8:15 – Campfire & Night Hike! \nSaturday\n8:30 – Breakfast\n9:00 – 9:45 – Singing & Session\n10:00 – Activity\nFree Time\n12:00 — Lunch\n2:00 – Zip Line\nFree Time\n6:00 – Campfire Supper\n6:45 – Campfire: Singing & S’mores\n7:30 – Night Game: Glow in the Dark Capture the Flag! \nSunday\n7:30-9:30 – Continental Breakfast\nFree Time\n11:00  – Departure \nThe schedule is subject to change. \n\n			\n				\n			\n			\n				\n			\n			\n				\n			\n			\n				\n			\n			\n				\n			\n			\n				\n			\n			\n				\n			\n			\n				\n			\n			\n				\n			\n			\n				\n			\n			\n		\n\nWould you like to help someone in need attend a PLFC Retreat? \nDonate to Retreat Scholarships
URL:https://www.pinelakecamp.com/event/dads-kids-weekend/
LOCATION:Pine Lake Fellowship Camp\, 10371 Pine Lake Road\, Meridian\, MS\, 39307\, United States
CATEGORIES:Event,Retreat
ORGANIZER;CN="Matt Graybill":MAILTO:matt@Pinelakecamp.com
END:VEVENT
END:VCALENDAR