BEGIN:VCALENDAR
VERSION:2.0
PRODID:-//Pine Lake Fellowship Camp - ECPv6.15.20//NONSGML v1.0//EN
CALSCALE:GREGORIAN
METHOD:PUBLISH
X-WR-CALNAME:Pine Lake Fellowship Camp
X-ORIGINAL-URL:https://www.pinelakecamp.com
X-WR-CALDESC:Events for Pine Lake Fellowship Camp
REFRESH-INTERVAL;VALUE=DURATION:PT1H
X-Robots-Tag:noindex
X-PUBLISHED-TTL:PT1H
BEGIN:VTIMEZONE
TZID:America/Chicago
BEGIN:DAYLIGHT
TZOFFSETFROM:-0600
TZOFFSETTO:-0500
TZNAME:CDT
DTSTART:20240310T080000
END:DAYLIGHT
BEGIN:STANDARD
TZOFFSETFROM:-0500
TZOFFSETTO:-0600
TZNAME:CST
DTSTART:20241103T070000
END:STANDARD
BEGIN:DAYLIGHT
TZOFFSETFROM:-0600
TZOFFSETTO:-0500
TZNAME:CDT
DTSTART:20250309T080000
END:DAYLIGHT
BEGIN:STANDARD
TZOFFSETFROM:-0500
TZOFFSETTO:-0600
TZNAME:CST
DTSTART:20251102T070000
END:STANDARD
BEGIN:DAYLIGHT
TZOFFSETFROM:-0600
TZOFFSETTO:-0500
TZNAME:CDT
DTSTART:20260308T080000
END:DAYLIGHT
BEGIN:STANDARD
TZOFFSETFROM:-0500
TZOFFSETTO:-0600
TZNAME:CST
DTSTART:20261101T070000
END:STANDARD
END:VTIMEZONE
BEGIN:VEVENT
DTSTART;TZID=America/Chicago:20250509T190000
DTEND;TZID=America/Chicago:20250511T110000
DTSTAMP:20260420T021017
CREATED:20171124T191948Z
LAST-MODIFIED:20250423T204547Z
UID:5612-1746817200-1746961200@www.pinelakecamp.com
SUMMARY:YOUNG ADULT RETREAT
DESCRIPTION:2025 – Canceled\nYoung adults\, we are so sorry to cancel your event this year. We know you love Pine Lake\, and we also know that you lead busy lives! Join us Labor Day Weekend for Family Camp (it’s more like camp family than family family anyway) and do all the camp things you love to do then! We’ll see you around! \n \nReady for a weekend of rest and fun?\nStep away from your obligations for a few days! Young Adult Retreat is a time for all young adults (graduating high school seniors to 30 year olds) to find renewal of spirit and fellowship with other young adults in the presence of God’s creation. \nExpect good food\, a relaxed schedule with lots of free time\, and other young adults looking to hang out and have fun. Lawn games\, hiking trails\, boats\, and board games\, are always on hand\, but if you feel like sitting in a rocking chair and enjoying the beautiful setting\, we’ve got that too. \nREGISTER FOR YOUNG ADULT RETREAT\n 2025 Pricing:\nLodging Options\n\nCommute from Home: $70\nOnsite Lodging (shared rooms): $105\n\nWhat’s Included?\n\nMeals\, activities\, spiritual input\n\nSample Young Adult Retreat Schedule\nFriday\n\n7p-8p Arrival/Registration\n8:00 Welcome!\n9:00 Homemade Ice Cream\nFree Time- Board Games and beyond!\nSleep!\n\nSaturday\n\n8:30 Breakfast\n9:30 Session #1\n\n\n11:15 Field Games or other fun\n12:30 Lunch\n1:30 Horizontal (Nap Time!)\n3:30 Optional Activities\n\n\n6:30 Supper\n8:00 Session #2 Campfire!\n9:00 Night Ultimate\nTime for Sleep or Board Games\n\nSunday\n\n9:00 Sunday Service/Wrap-Up Session\n10:00 Brunch\n11:15 Clean up and Goodbyes\n\n  \nSchedule subject to change \n\n			\n				\n			\n				\n				Porches are made for relaxing\, catchhing up with friends\, and enjoying nature. Also hammocks.\n				\n			\n				\n			\n				\n				Did someone say homemade ice cream?\n				\n			\n				\n			\n				\n				Giant card games get competitive\, but hopefully not dangerous! ;)\n				\n			\n				\n			\n				\n				With cards this big\, you need a tight team!\n				\n			\n				\n			\n				\n				Worship on the porch\n				\n			\n		\n\n\n Want to help help someone in need attend a PLFC Retreat? \nDonate to Retreat Scholarships \n 
URL:https://www.pinelakecamp.com/event/young-adult-retreat/
LOCATION:Pine Lake Fellowship Camp\, 10371 Pine Lake Road\, Meridian\, MS\, 39307\, United States
CATEGORIES:Retreat
ATTACH;FMTTYPE=image/png:https://www.pinelakecamp.com/wp-content/uploads/2020/05/YAR.png
ORGANIZER;CN="Suzanne Opel":MAILTO:suzanne@pinelakecamp.com
END:VEVENT
BEGIN:VEVENT
DTSTART;TZID=America/Chicago:20250214T190000
DTEND;TZID=America/Chicago:20250216T120000
DTSTAMP:20260420T021017
CREATED:20171124T191948Z
LAST-MODIFIED:20250305T151932Z
UID:8806-1739559600-1739707200@www.pinelakecamp.com
SUMMARY:MARRIAGE ENRICHMENT RETREAT
DESCRIPTION:Celebrate and Strengthen!\nYour marriage is important\, wonderful\, and precious. Your spouse is all of these things to you and more! By getting away for a weekend together\, you can celebrate what you have\, renew your dedication to one another\, and maybe even pick up a few new communication tools! Even the strongest marriages benefit from a change of pace and place. Pine Lake’s retreat provides a beautiful\, comfortable environment to do just that. \nExpect good food\, a schedule balanced with content and free time\, and other Christian couples to connect with. Whether you want to hike and explore\, fish at the lake\, play board games with others\, or cozy up by the fire together\, your weekend away awaits you! \nMarriage Enrichment Retreat is not for marriages in crisis. If you and/or your spouse feel your marriage is in jeopardy\, this retreat may not be for you. Consider seeking out a licensed marriage counselor or intensive marriage counseling retreat. \n  \nREGISTER FOR MARRIAGE ENRICHMENT RETREAT\nShawn & Pam Beadle \nMeet the Facilitators!\nShawn and Pam Beadle have been married 30 years and have three adult daughters and a brand new son-in-law. Over the years\, they have served together in camping ministry\, leading adoption seminars\, teaching at marriage retreats\, and hosting small groups. They are lifetime members of Pine Lake Camp\, which holds a very special place in their hearts. They are active members at Calvary Church\, Muscatine\, Iowa. A typical Friday night consists of homemade pizza and sweet tea! \n \nPricing:\n$95.00/couple + lodging: \nLodging Options\n\nCommute from Home: $0\nRV Site: $60\nOnsite Lodging (private room): $100\n\n  \nWhat’s Included?\n\nMeals\, activities\, speaker input\, curriculum materials\n\n\nSample Retreat Schedule\nFriday \n\n7:00  – Registration\n7:30  – Introductions\nSession 1\n\nSaturday \n\n8:00 – Breakfast\n8:45  – Session 2\n12:00 – Lunch\n2:30  – Session 3\n5:30  – Date Night—on your own\n\nSunday \n\n8:15  – Coffee & Donuts\nSession 4\n10:00 – Brunch\nDeparture\n\nSchedule subject to change \n  \nREGISTER FOR MARRIAGE ENRICHMENT RETREAT\n\n\n\n	\n		\n			\n			\n		\n\n		\n		\n			\n			\n		\n\n		\n		\n			\n			\n		\n\n		\n		\n			\n			\n		\n\n		\n		\n			\n			\n		\n\n		\n		\n			\n			\n		\n\n		\n		\n			\n			\n		\n\n		\n\n		\n	\n		[Show thumbnails]\n	\n\n\n\n Want to help help someone in need attend a PLFC Retreat? \nDonate to Retreat Scholarships
URL:https://www.pinelakecamp.com/event/marriage-retreat/
LOCATION:Pine Lake Fellowship Camp\, 10371 Pine Lake Road\, Meridian\, MS\, 39307\, United States
CATEGORIES:Retreat
ATTACH;FMTTYPE=image/png:https://www.pinelakecamp.com/wp-content/uploads/2017/11/Marriage-Enrichment-Retreat-1.png
ORGANIZER;CN="Suzanne Opel":MAILTO:suzanne@pinelakecamp.com
END:VEVENT
END:VCALENDAR